BEGIN:VCALENDAR
VERSION:2.0
PRODID:-// THE AFRICAN APOSTOLIC CHURCH - ECPv4.9.9//NONSGML v1.0//EN
CALSCALE:GREGORIAN
METHOD:PUBLISH
X-WR-CALNAME: THE AFRICAN APOSTOLIC CHURCH
X-ORIGINAL-URL:https://the-aac.org
X-WR-CALDESC:Events for  THE AFRICAN APOSTOLIC CHURCH
BEGIN:VTIMEZONE
TZID:UTC
BEGIN:STANDARD
TZOFFSETFROM:+0000
TZOFFSETTO:+0000
TZNAME:UTC
DTSTART:20260101T000000
END:STANDARD
END:VTIMEZONE
BEGIN:VEVENT
DTSTART;VALUE=DATE:20260403
DTEND;VALUE=DATE:20260406
DTSTAMP:20260421T130333
CREATED:20141019T133343Z
LAST-MODIFIED:20260208T150456Z
UID:22695-1775174400-1775433599@the-aac.org
SUMMARY:GUVAMBWA - LEADERS CONFERENCE
DESCRIPTION:Guvambwa is one of the biggest gathering of the AAC leadership across of the country. Other Church leaders from countries like South Africa\, United Kingdom (Great Britain)\,  Zambia\, Angola\,Mozambique and Dubai are also encouraged to attend this gathering as the focus is always on the leadership qualities. \nThe local churches start their preparation as early as two months ensuring that the landscape is cleared of any landscape is cleared of any obvious foreign objects. Public toilets electricity and safe water is running well. \nRight from the moment the conference officially opens\, everyone begins to feel a strong sense of belonging to the tabernacle and it really seems like a new home. Guvambwa is a place you can experience almost a pure worship service in solitude\, which allows you to spiritually engage with heavenly Spirit- the Holy Spirit. In the history of the AAC this is place where mostly of miraculous phenomena’s have been witnessed including heavenly angelic stars display in a broad day light witnessed by all. \nShare this:
URL:https://the-aac.org/?tribe_events=april-easter
LOCATION:Guvambwa\, Guvambwa\, International conference\, Zimbabwe
CATEGORIES:Events
ATTACH;FMTTYPE=image/jpeg:https://the-aac.org/wp-content/uploads/2017/10/banner-3-img.jpg
END:VEVENT
BEGIN:VEVENT
DTSTART;VALUE=DATE:20260410
DTEND;VALUE=DATE:20260413
DTSTAMP:20260421T130333
CREATED:20190704T113445Z
LAST-MODIFIED:20260210T114419Z
UID:24792-1775779200-1776038399@the-aac.org
SUMMARY:UK-  INTERNATIONAL CONFERENCE
DESCRIPTION:Share this:
URL:https://the-aac.org/?tribe_events=uk-mid-year-international-conference
LOCATION:Kents Hill\, Milton Keynes\, MK7 6BZ\, United Kingdom
ATTACH;FMTTYPE=image/jpeg:https://the-aac.org/wp-content/uploads/2017/10/banner-3-img.jpg
END:VEVENT
END:VCALENDAR